BEGIN:VCALENDAR
VERSION:2.0
PRODID:-//AudioTheme 2.3.2
BEGIN:VEVENT
UID:urn:uuid:3c04ceee-1221-4bb5-92a3-67302f8aaec1
URL:https://carly-e.com/shows/gig-309/
DTSTART;TZID=GMT:20190307T073000
SUMMARY:Carly E. & her Band
DESCRIPTION:Carly E. & her Band
LOCATION:The Jitterbug Saloon\, Bloemgracht 170\, Amsterdam\, Nederland\, Nederland\, 1015 TV
END:VEVENT
END:VCALENDAR
