BEGIN:VCALENDAR
VERSION:2.0
PRODID:-//AudioTheme 2.3.2
BEGIN:VEVENT
UID:urn:uuid:4fa9ca0d-050e-4dd7-9a74-3b21f395a0c5
URL:https://carly-e.com/shows/garden-concert-private-concert/
DTSTART;TZID=GMT:20210310T000000
SUMMARY:VPRO Vrije Geluiden | Recording Day
DESCRIPTION:Solo sound
LOCATION:Eye Film Museum\, IJpromenade 1\, Amsterdam\, \, Nederland
END:VEVENT
END:VCALENDAR
