BEGIN:VCALENDAR
VERSION:2.0
PRODID:-//AudioTheme 2.3.2
BEGIN:VEVENT
UID:urn:uuid:4fa9ca0d-050e-4dd7-9a74-3b21f395a0c5
URL:https://carly-e.com/shows/garden-concert-carly-e-show/
DTSTART;TZID=GMT:20200531T000000
SUMMARY:Garden Concert | Private Concert
DESCRIPTION:Solo sound
LOCATION:Sint Nicolaasga\, Sint Nicolaasga\, \, 8521NE
END:VEVENT
END:VCALENDAR
