BEGIN:VCALENDAR
VERSION:2.0
PRODID:-//AudioTheme 2.3.2
BEGIN:VEVENT
UID:urn:uuid:fd32a5a2-244a-4b69-8dd8-6473b900f1da
URL:https://carly-e.com/shows/folk-you-mondays/
DTSTART;TZID=GMT:20151221T000000
SUMMARY:Folk you Mondays
DESCRIPTION:Solo sound. First concert as Carly E.
LOCATION:La Dama de Bollini\, Buenos Aires\, \, Argentina
END:VEVENT
END:VCALENDAR
