BEGIN:VCALENDAR
VERSION:2.0
PRODID:-//AudioTheme 2.3.2
BEGIN:VEVENT
UID:urn:uuid:98c72ed0-31fb-486f-9472-9c2c1e4cc7a7
URL:https://carly-e.com/shows/festival-landoog/
DTSTART;TZID=GMT:20220924T000000
SUMMARY:Festival Landoog
DESCRIPTION:Voorstelling Toekomstmuziek (NL)
LOCATION:Landoog Beeldenroute\, Buursteeg 2\, Renswoude\, 
END:VEVENT
END:VCALENDAR
