BEGIN:VCALENDAR
VERSION:2.0
PRODID:-//AudioTheme 2.3.2
BEGIN:VEVENT
UID:urn:uuid:c91f8b77-b312-427d-a807-ac54101600a3
URL:https://carly-e.com/shows/festival-hongerige-wolf/
DTSTART;TZID=GMT:20170715T000000
SUMMARY:Festival Hongerige Wolf
DESCRIPTION:Solo sound. Loods Jan Vogel
LOCATION:Hongerige Wolf\, G. Gernaatweg\, Groningen\, 
END:VEVENT
END:VCALENDAR
