BEGIN:VCALENDAR
VERSION:2.0
PRODID:-//AudioTheme 2.3.2
BEGIN:VEVENT
UID:urn:uuid:40a4d0fc-e04f-4ec8-a999-a9246938438f
URL:https://carly-e.com/shows/festival-art-carnivale-tonys-theatertent/
DTSTART;TZID=GMT:20180721T000000
SUMMARY:Festival Art Carnivale @Tony's Theatertent
DESCRIPTION:Solo sound
LOCATION:Art Carnivale\, Steendam\, 
END:VEVENT
END:VCALENDAR
