BEGIN:VCALENDAR
VERSION:2.0
PRODID:-//AudioTheme 2.3.2
BEGIN:VEVENT
UID:urn:uuid:e1d5e43c-37b6-479c-b26b-d6ac6cc27a3b
URL:https://carly-e.com/shows/feliz-navidad/
DTSTART;TZID=GMT:20181222T000000
SUMMARY:Feliz Navidad Theater Oostblok
DESCRIPTION:Solo sound
LOCATION:Theater Oostblok\, Amsterdam\, 
END:VEVENT
END:VCALENDAR
