BEGIN:VCALENDAR
VERSION:2.0
PRODID:-//AudioTheme 2.3.2
BEGIN:VEVENT
UID:urn:uuid:0d476032-173b-4068-a86a-384797fb9d8b
URL:https://carly-e.com/shows/event-soul-supply-friends/
DTSTART;VALUE=DATE:20170120
SUMMARY:Event Soul Supply & Friends
DESCRIPTION:Solo sound
LOCATION:Bulls and Dogs\, Van Woustraat 58\, Amsterdam\, 
END:VEVENT
END:VCALENDAR
