BEGIN:VCALENDAR
VERSION:2.0
PRODID:-//AudioTheme 2.3.2
BEGIN:VEVENT
UID:urn:uuid:f9b21070-3f2e-4685-92d5-eb5cdb0dfc8d
URL:https://carly-e.com/shows/elastiek-festival/
DTSTART;TZID=GMT:20170709T000000
SUMMARY:Elastiek Festival
DESCRIPTION:Solo sound
LOCATION:Elastiek Festival\, Hilvarenbeek\, 
END:VEVENT
END:VCALENDAR
