BEGIN:VCALENDAR
VERSION:2.0
PRODID:-//AudioTheme 2.3.2
BEGIN:VEVENT
UID:urn:uuid:c4bea7c6-b711-49b5-bc03-861315aa8880
URL:https://carly-e.com/shows/el-domingo/
DTSTART;TZID=GMT:20160214T000000
SUMMARY:El Domingo
DESCRIPTION:Solo sound
LOCATION:Patio Ezeiza\, Buenos Aires\, \, Argentina
END:VEVENT
END:VCALENDAR
