BEGIN:VCALENDAR
VERSION:2.0
PRODID:-//AudioTheme 2.3.2
BEGIN:VEVENT
UID:urn:uuid:6a1fdd2a-5eda-4743-8bd3-a1bca78c66b3
URL:https://carly-e.com/shows/edelwise-seizoensopening/
DTSTART;TZID=GMT:20170929T000000
SUMMARY:EdelWise Seizoensopening
DESCRIPTION:Solo sound
LOCATION:EdelWise\, Postjesweg 1\, Amsterdam\, 
END:VEVENT
END:VCALENDAR
