BEGIN:VCALENDAR
VERSION:2.0
PRODID:-//AudioTheme 2.3.2
BEGIN:VEVENT
UID:urn:uuid:1943b933-187b-4356-a989-96dd1c0d826b
URL:https://carly-e.com/shows/dinner-concert/
DTSTART;TZID=GMT:20171229T000000
SUMMARY:Dinner concert
DESCRIPTION:Solo sound
LOCATION:Hotel Gaia\, Diepenveen\, 
END:VEVENT
END:VCALENDAR
