BEGIN:VCALENDAR
VERSION:2.0
PRODID:-//AudioTheme 2.3.2
BEGIN:VEVENT
UID:urn:uuid:45aac9d5-3bba-4752-9e6d-e8213a94b3fa
URL:https://carly-e.com/shows/de-ruimte-breda-album-release-tour-natural/
DTSTART;TZID=GMT:20241124T000000
SUMMARY:De Ruimte Breda | Album Release Tour "Natural"
DESCRIPTION:Neo classical album tour
LOCATION:De Ruimte Breda\, Heuvelstraat 52\, Breda\, 
END:VEVENT
END:VCALENDAR
