BEGIN:VCALENDAR
VERSION:2.0
PRODID:-//AudioTheme 2.3.2
BEGIN:VEVENT
UID:urn:uuid:f9babbe9-0ad7-4770-9ab7-324c476e2900
URL:https://carly-e.com/shows/de-roode-bioscoop-neo-classical-night/
DTSTART;TZID=GMT:20240927T000000
SUMMARY:De Roode Bioscoop | Solo debuutalbum release "Natural" UITVERKOCHT
DESCRIPTION:Neo classical: Cello & piano
LOCATION:Theater de Roode Bioscoop\, Haarlemmerplein 7\, Amsterdam\, 
END:VEVENT
END:VCALENDAR
