BEGIN:VCALENDAR
VERSION:2.0
PRODID:-//AudioTheme 2.3.2
BEGIN:VEVENT
UID:urn:uuid:4668dc9b-3c9e-4a07-9a80-58481b1a4a5d
URL:https://carly-e.com/shows/de-komijnen/
DTSTART;VALUE=DATE:20181115
SUMMARY:De Komijnen
DESCRIPTION:With BoterBoter
LOCATION:De Kargadoor\, Utrecht\, 
END:VEVENT
END:VCALENDAR
