BEGIN:VCALENDAR
VERSION:2.0
PRODID:-//AudioTheme 2.3.2
BEGIN:VEVENT
UID:urn:uuid:eb0c9fe7-9a1a-4b33-935c-67978117ee61
URL:https://carly-e.com/shows/de-helling-cirque-du-vagelui/
DTSTART;TZID=GMT:20200122T000000
SUMMARY:De Helling | CIRQUE DU VAGELUI
DESCRIPTION:Solo sound + drum computer
LOCATION:De Helling\, Helling 7\, Utrecht\, 
END:VEVENT
END:VCALENDAR
