BEGIN:VCALENDAR
VERSION:2.0
PRODID:-//AudioTheme 2.3.2
BEGIN:VEVENT
UID:urn:uuid:914907e0-d22c-4668-a4e7-0f6fd7a09866
URL:https://carly-e.com/shows/de-dubieuze-avond/
DTSTART;TZID=GMT:20240228T000000
SUMMARY:Theater de Liefde | De Dubieuze Avond
DESCRIPTION:solo\, NL\, kleinkunst
LOCATION:Theater de Liefde\, Begijnhof 10\, Haarlem\, 
END:VEVENT
END:VCALENDAR
