BEGIN:VCALENDAR
VERSION:2.0
PRODID:-//AudioTheme 2.3.2
BEGIN:VEVENT
UID:urn:uuid:b29c1578-b70c-48f3-be49-29330d342c4f
URL:https://carly-e.com/shows/culture-club-de-haere/
DTSTART;TZID=GMT:20161009T000000
SUMMARY:Culture Club De Haere
DESCRIPTION:Solo sound
LOCATION:Culture Club De Haere\, Haereweg 4\, Olst\, 
END:VEVENT
END:VCALENDAR
