BEGIN:VCALENDAR
VERSION:2.0
PRODID:-//AudioTheme 2.3.2
BEGIN:VEVENT
UID:urn:uuid:11f5e5ff-a4f7-4925-a922-7e34647a13fa
URL:https://carly-e.com/shows/concert/
DTSTART;TZID=GMT:20160510T000000
SUMMARY:Concert
DESCRIPTION:Solo sound
LOCATION:La Casona\, Buenos Aires\, 
END:VEVENT
END:VCALENDAR
