BEGIN:VCALENDAR
VERSION:2.0
PRODID:-//AudioTheme 2.3.2
BEGIN:VEVENT
UID:urn:uuid:150845d7-0261-4eda-9b9d-51ad37c1983d
URL:https://carly-e.com/shows/concert-with-el-caribefunk-ryan-tennis/
DTSTART;VALUE=DATE:20160331
SUMMARY:Concert with El Caribefunk & Ryan Tennis
DESCRIPTION:Solo sound
LOCATION:Club Truth\, Canning\, \, Argentina
END:VEVENT
END:VCALENDAR
