BEGIN:VCALENDAR
VERSION:2.0
PRODID:-//AudioTheme 2.3.2
BEGIN:VEVENT
UID:urn:uuid:c81e7a89-b8dc-4abc-8e8a-61a3a5543865
URL:https://carly-e.com/shows/concert-buenos-aires/
DTSTART;TZID=GMT:20160318T000000
SUMMARY:Concert Buenos Aires
DESCRIPTION:Solo sound
LOCATION:Cangrejos Centro Cultural\, Buenos Aires\, \, Argentina
END:VEVENT
END:VCALENDAR
