BEGIN:VCALENDAR
VERSION:2.0
PRODID:-//AudioTheme 2.3.2
BEGIN:VEVENT
UID:urn:uuid:a002a899-d49e-4edc-a302-7720515c1ba4
URL:https://carly-e.com/shows/competitie-mooie-noten/
DTSTART;VALUE=DATE:20170411
SUMMARY:Competitie Mooie Noten
DESCRIPTION:Solo sound
LOCATION:Melkweg\, Lijnbaansgracht 234a\, Amsterdam\, 
END:VEVENT
END:VCALENDAR
