BEGIN:VCALENDAR
VERSION:2.0
PRODID:-//AudioTheme 2.3.2
BEGIN:VEVENT
UID:urn:uuid:ab4a9a6d-b469-4eb8-8839-7876206fddc1
URL:https://carly-e.com/shows/cok-sonic/
DTSTART;TZID=GMT:20170111T000000
SUMMARY:COK SONIC
DESCRIPTION:Solo sound. Eurosonic - Noorderslag. 
LOCATION:Café de Kar\, Peperstraat 15\, Groningen\, 
END:VEVENT
END:VCALENDAR
