BEGIN:VCALENDAR
VERSION:2.0
PRODID:-//AudioTheme 2.3.2
BEGIN:VEVENT
UID:urn:uuid:1cb81d6c-991b-45e2-8713-227331bdca1d
URL:https://carly-e.com/shows/carly-e-sofar-sounds-amsterdam/
DTSTART;TZID=GMT:20171203T000000
SUMMARY:Carly E. @ Sofar Sounds Amsterdam
DESCRIPTION:Solo sound
LOCATION:Sofar Sounds\, Secret place\, Amsterdam\, 
END:VEVENT
END:VCALENDAR
