BEGIN:VCALENDAR
VERSION:2.0
PRODID:-//AudioTheme 2.3.2
BEGIN:VEVENT
UID:urn:uuid:24f73da5-b4b8-4ddc-8255-ce0a0163ca41
URL:https://carly-e.com/shows/carly-e-s-pre-release-party/
DTSTART;TZID=GMT:20171012T000000
SUMMARY:Carly E.'s Pre-release party
DESCRIPTION:Solo sound
LOCATION:Winston Kingdom\, Warmoesstraat 131\, Amsterdam\, 
END:VEVENT
END:VCALENDAR
