BEGIN:VCALENDAR
VERSION:2.0
PRODID:-//AudioTheme 2.3.2
BEGIN:VEVENT
UID:urn:uuid:237196f8-c4f2-4204-8154-f3cfb87b1263
URL:https://carly-e.com/shows/carly-e-in-de-smederij/
DTSTART;TZID=GMT:20171217T000000
SUMMARY:Carly E. in de Smederij
DESCRIPTION:Solo sound 
LOCATION:De Smederij\, De Smederij\, Hilversum\, 
END:VEVENT
END:VCALENDAR
