BEGIN:VCALENDAR
VERSION:2.0
PRODID:-//AudioTheme 2.3.2
BEGIN:VEVENT
UID:urn:uuid:a72ad321-424a-4bdb-9260-c485db1b7320
URL:https://carly-e.com/shows/carly-e-her-band-red-light-jazz-festival/
DTSTART;TZID=GMT:20190609T000000
SUMMARY:Red Light Jazz Festival | Carly E. & her Band
DESCRIPTION:Carly E. & her Band. Closing Act. 
LOCATION:Mata Hari\, Oudezijds Achterburgwal 22\, Amsterdam\, 
END:VEVENT
END:VCALENDAR
