BEGIN:VCALENDAR
VERSION:2.0
PRODID:-//AudioTheme 2.3.2
BEGIN:VEVENT
UID:urn:uuid:860bdb53-f553-4f9b-b00c-e5d3cbdc7492
URL:https://carly-e.com/shows/buurtfeest-performance/
DTSTART;TZID=GMT:20180602T000000
SUMMARY:Buurtfeest performance
DESCRIPTION:Solo sound
LOCATION:Radioweg\, Amsterdam\, 
END:VEVENT
END:VCALENDAR
