BEGIN:VCALENDAR
VERSION:2.0
PRODID:-//AudioTheme 2.3.2
BEGIN:VEVENT
UID:urn:uuid:e7206d6f-7c91-483c-8d11-82bed805e641
URL:https://carly-e.com/shows/buurtboerderij-ons-genoegen-sunday/
DTSTART;TZID=GMT:20171119T000000
SUMMARY:Buurtboerderij 'Ons Genoegen' Sunday
DESCRIPTION:Solo sound
LOCATION:Buurtboerderij 'Ons Genoegen'\, Amsterdam\, 
END:VEVENT
END:VCALENDAR
