BEGIN:VCALENDAR
VERSION:2.0
PRODID:-//AudioTheme 2.3.2
BEGIN:VEVENT
UID:urn:uuid:8c6dfef9-e800-4eea-ad22-439733190eb7
URL:https://carly-e.com/shows/burning-man-nl-decompression-2022/
DTSTART;TZID=GMT:20221113T000000
SUMMARY:Burning Man NL | Decompression 2022
DESCRIPTION:Solo sound (EN)
LOCATION:Radion\, Louwesweg 1\, Amsterdam\, 
END:VEVENT
END:VCALENDAR
