BEGIN:VCALENDAR
VERSION:2.0
PRODID:-//AudioTheme 2.3.2
BEGIN:VEVENT
UID:urn:uuid:47c94ad2-b1e3-4bca-86f4-078accda9771
URL:https://carly-e.com/shows/burning-man-netherlands-3/
DTSTART;TZID=GMT:20220624T000000
SUMMARY:Burning Man Netherlands
DESCRIPTION:Solo sound
LOCATION:Where the sheep sleep\, Zeewolde\, Zeewolde\, 
END:VEVENT
END:VCALENDAR
