BEGIN:VCALENDAR
VERSION:2.0
PRODID:-//AudioTheme 2.3.2
BEGIN:VEVENT
UID:urn:uuid:7994d23c-1e45-4124-869b-d956988385b1
URL:https://carly-e.com/shows/burendag-leger-des-heils/
DTSTART;TZID=GMT:20170924T000000
SUMMARY:Burendag Leger Des Heils
DESCRIPTION:Solo sound
LOCATION:Leger des Heils\, Johan M. Coenenstraat 2\, Amsterdam\, 
END:VEVENT
END:VCALENDAR
