BEGIN:VCALENDAR
VERSION:2.0
PRODID:-//AudioTheme 2.3.2
BEGIN:VEVENT
UID:urn:uuid:4947865f-25d6-45c7-93a3-387e8458f580
URL:https://carly-e.com/shows/bruggenparade/
DTSTART;TZID=GMT:20170910T000000
SUMMARY:Bruggenparade
DESCRIPTION:Solo sound
LOCATION:Bruggenparade\, Delft\, 
END:VEVENT
END:VCALENDAR
