BEGIN:VCALENDAR
VERSION:2.0
PRODID:-//AudioTheme 2.3.2
BEGIN:VEVENT
UID:urn:uuid:4432ca1a-be3f-4326-bcec-b1fa8662b621
URL:https://carly-e.com/shows/boterboter-carly-e/
DTSTART;TZID=GMT:20190416T183000
SUMMARY:BoterBoter & Carlos Open B.A.C.
DESCRIPTION:BoterBoter & Carlos sound\, 15 min set.  
LOCATION:Betty Asfalt Complex\, Nieuwezijds Voorburgwal 282\, Amsterdam\, \, Nederland\, 1012 RT
END:VEVENT
END:VCALENDAR
