BEGIN:VCALENDAR
VERSION:2.0
PRODID:-//AudioTheme 2.3.2
BEGIN:VEVENT
UID:urn:uuid:341ee7ae-7713-4b0e-a452-ddfebba8bb5b
URL:https://carly-e.com/shows/bewaar-me-tuinen-van-west-fest/
DTSTART;TZID=GMT:20160925T000000
SUMMARY:Bewaar Me: Tuinen van West Fest
DESCRIPTION:Solo sound
LOCATION:Tuinen van West\, Tom Scheursweg 48\, Amsterdam\, 
END:VEVENT
END:VCALENDAR
