BEGIN:VCALENDAR
VERSION:2.0
PRODID:-//AudioTheme 2.3.2
BEGIN:VEVENT
UID:urn:uuid:179414a3-40d5-4f50-bf5c-56522c5e892d
URL:https://carly-e.com/shows/betty-asfalt-complex-open-bac/
DTSTART;TZID=GMT:20221011T183000
SUMMARY:Betty Asfalt Complex | Open BAC
DESCRIPTION:Try-out voorstelling
LOCATION:Betty Asfalt Complex\, Nieuwezijds Voorburgwal 282\, Amsterdam\, \, Nederland\, 1012 RT
END:VEVENT
END:VCALENDAR
