BEGIN:VCALENDAR
VERSION:2.0
PRODID:-//AudioTheme 2.3.2
BEGIN:VEVENT
UID:urn:uuid:b98e4111-d824-4adc-bd41-74be0bffded4
URL:https://carly-e.com/shows/betty-asfalt-complex-open-bac-2/
DTSTART;TZID=GMT:20221206T193000
SUMMARY:Betty Asfalt Complex | Open BAC
DESCRIPTION:Kleinkunst solo (NL\, try-out)
LOCATION:Betty Asfalt Complex\, Nieuwezijds Voorburgwal 282\, Amsterdam\, \, Nederland\, 1012 RT
END:VEVENT
END:VCALENDAR
