BEGIN:VCALENDAR
VERSION:2.0
PRODID:-//AudioTheme 2.3.2
BEGIN:VEVENT
UID:urn:uuid:620194a6-42c7-4965-b800-2a598daddd54
URL:https://carly-e.com/shows/artotel-daybreaker-event/
DTSTART;TZID=GMT:20190710T000000
SUMMARY:Art'Otel | Daybreaker event
DESCRIPTION:Solo Sound
LOCATION:Art'Otel\, Prins Hendrikkade 33\, Amsterdam\, 
END:VEVENT
END:VCALENDAR
