BEGIN:VCALENDAR
VERSION:2.0
PRODID:-//AudioTheme 2.3.2
BEGIN:VEVENT
UID:urn:uuid:3f6c2ae0-c8c1-497d-859d-0765001cf08f
URL:https://carly-e.com/shows/alternative-folk-night/
DTSTART;TZID=GMT:20170429T000000
SUMMARY:Alternative Folk Night
DESCRIPTION:Solo sound
LOCATION:Vondelbunker\, Amsterdam\, 
END:VEVENT
END:VCALENDAR
