BEGIN:VCALENDAR
VERSION:2.0
PRODID:-//AudioTheme 2.3.2
BEGIN:VEVENT
UID:urn:uuid:eaec67ea-aaed-47a2-98e5-58cfaeb81665
URL:https://carly-e.com/shows/airbnb-experiences-performance/
DTSTART;TZID=GMT:20190407T173000
SUMMARY:Airbnb Experiences Performance
DESCRIPTION:Solo sound
LOCATION:Roses by SAL\, Reguliersdwarsstraat 40\, Amsterdam\, \, Nederland\, 1017 BM
END:VEVENT
END:VCALENDAR
