BEGIN:VCALENDAR
VERSION:2.0
PRODID:-//AudioTheme 2.3.2
BEGIN:VEVENT
UID:urn:uuid:b14651e8-ea09-4941-92d8-56ddeb4fb5a9
URL:https://carly-e.com/shows/afsluitende-open-b-a-c/
DTSTART;TZID=GMT:20180605T183000
SUMMARY:Afsluitende Open B.A.C.
DESCRIPTION:Solo sound
LOCATION:Betty Asfalt Complex\, Nieuwezijds Voorburgwal 282\, Amsterdam\, \, Nederland\, 1012 RT
END:VEVENT
END:VCALENDAR
