BEGIN:VCALENDAR
VERSION:2.0
PRODID:-//AudioTheme 2.3.2
BEGIN:VEVENT
UID:urn:uuid:2bd80207-0bd5-46f3-a4db-d14e65f6db9b
URL:https://carly-e.com/shows/acoustic-candlelight-concerts-airbnb-experience/
DTSTART;TZID=GMT:20190217T180000
SUMMARY:Acoustic Candlelight Concerts AirBnB Experience
DESCRIPTION:Solo Sound. Double bill. 
LOCATION:Roses by SAL\, Reguliersdwarsstraat 40\, Amsterdam\, \, Nederland\, 1017 BM
END:VEVENT
END:VCALENDAR
