BEGIN:VCALENDAR
VERSION:2.0
PRODID:-//AudioTheme 2.3.2
BEGIN:VEVENT
UID:urn:uuid:86a71c25-8284-41cf-94c8-967a5cb8391e
URL:https://carly-e.com/shows/1e-voorronde-amsterdams-kleinkunst-festival/
DTSTART;TZID=GMT:20221007T000000
SUMMARY:1e Voorronde | Amsterdams Kleinkunst Festival
LOCATION:Theater Bellevue\, Leidsekade 90\, Amsterdam\, 
END:VEVENT
END:VCALENDAR
