BEGIN:VCALENDAR
VERSION:2.0
PRODID:-//AudioTheme 2.3.2
BEGIN:VEVENT
UID:urn:uuid:6039fce1-e9ab-4d07-864b-44d96d43dec5
URL:https://carly-e.com/shows/1500e-open-b-a-c/
DTSTART;TZID=GMT:20190105T000000
SUMMARY:DeLaMar Theater 1500e Open B.A.C.
DESCRIPTION:Solo sound. Invited as one of the artist of  the 1500e Open B.A.C. (special edition)  Line up: Peter Pannekoek\, Ronald Goedemondt\, Paul Haenen\, Erik van Muiswinkel\, Hans Sibbel\, Yentl en de Boer\, Mike Boddé\, En Vrac\, Johan Hoogeboom\, Mattijs Verhallen\, Matroesjka\, De Rode Horde\, Carly E.\, Roel C. Verburg en vele anderen.
LOCATION:DeLaMar Theater\, Marnixstraat 402\, Amsterdam\, \, Nederland
END:VEVENT
END:VCALENDAR
